dset ^MERGE_CPTEC_20100130.grib2
index ^MERGE_CPTEC_20100130.idx
undef -9.99e+08
title MERGE GENERATED FROM GPM-IMERG-late
dtype grib2
xdef 1001 linear -120.05 0.1
ydef 924 linear -60.05 0.1
tdef 1 linear 12Z30Jan2010 24hr
zdef 1 linear 1 1
vars 2
PREC 0,1 0,15,5 ** Surface Precipitation [kg/m^2]
NEST 0,1 0,3,1 ** Number of Stations / Grid Point
ENDVARS
