dset ^SMEC_PREC_2026073000_%y4%m2%d2%h2.grib2
options template
index ^SMEC_PREC_2026073000.idx
undef 9.999E+20
dtype grib2
ydef 691 linear -56.0 0.1
xdef 501 linear 277.0 0.1
tdef 13 linear 00Z31Jul2026 12hr
zdef 1 linear 1 1
vars 1
PRECsfc  0,1   0,15,5 ** surface Precipitation [kg/m^2]
ENDVARS
